BEGIN:VCALENDAR
VERSION:2.0
PRODID:-//L&#039;Atelier de Philomène - ECPv6.10.3//NONSGML v1.0//EN
CALSCALE:GREGORIAN
METHOD:PUBLISH
X-ORIGINAL-URL:https://atelier-philomene.fr
X-WR-CALDESC:Évènements pour L&#039;Atelier de Philomène
REFRESH-INTERVAL;VALUE=DURATION:PT1H
X-Robots-Tag:noindex
X-PUBLISHED-TTL:PT1H
BEGIN:VTIMEZONE
TZID:Europe/Paris
BEGIN:DAYLIGHT
TZOFFSETFROM:+0100
TZOFFSETTO:+0200
TZNAME:CEST
DTSTART:20260329T010000
END:DAYLIGHT
BEGIN:STANDARD
TZOFFSETFROM:+0200
TZOFFSETTO:+0100
TZNAME:CET
DTSTART:20261025T010000
END:STANDARD
END:VTIMEZONE
BEGIN:VEVENT
DTSTART;TZID=Europe/Paris:20260311T140000
DTEND;TZID=Europe/Paris:20260311T170000
DTSTAMP:20260425T180623
CREATED:20260113T080909Z
LAST-MODIFIED:20260310T135812Z
UID:4117-1773237600-1773248400@atelier-philomene.fr
SUMMARY:Macarons
DESCRIPTION:Les Recettes\n\nTechniques du Sirop de sucre\nMonter des blancs en neige\nFaire une meringue à l’italienne\nMacaronner\nUtilisation de la poche à douille\nCoucher des macarons\nGarniture du Jour Caramel beurre salé/ Framboises/ Chocolat Fève Tonka\nCuisson des Macarons\nMontage des Macarons\n\n			\n			\n				\n				\n				\n				\n			\n				\n				\n				\n				\n				\n				\n				\n				\n				\n				\n				\n				\n				\n					 \n	\n\n		\n		\n		\n\n		\n\n\n		\n\n\n\n	Billets\n\n		\n	\n	\n		Les numéros ci-dessous incluent les billets pour cet événement déjà dans votre panier. En cliquant sur «Obtenir des billets»\, vous pourrez modifier toutes les informations existantes sur les participants ainsi que modifier les quantités de billets.	\n\n\n		\n		\n		\n	\n		Billets ne sont plus disponibles	\n\n\n		\n	\n	\n	\n\n\n	\n\n	\n\n\n\n				\n			\n				\n				\n				\n				\n				Prochainement…\n			\n				\n				\n				\n				\n				\n				\n				\n					\n					\n						\n						\n						\n							Il n'y a pas d'événements à venir pour le moment.
URL:https://atelier-philomene.fr/event/macarons-39/
LOCATION:Rendez-vous à l’Atelier\, 96\, impasse de Mornan\, VAULX\, 74150\, France
CATEGORIES:Cours Macarons/ Pâte à Choux
ATTACH;FMTTYPE=image/jpeg:https://atelier-philomene.fr/wp-content/uploads/2023/02/Macaron-Framboises-scaled-e1677514595973.jpg
END:VEVENT
END:VCALENDAR