BEGIN:VCALENDAR
VERSION:2.0
PRODID:-//L&#039;Atelier de Philomène - ECPv6.10.3//NONSGML v1.0//EN
CALSCALE:GREGORIAN
METHOD:PUBLISH
X-WR-CALNAME:L&#039;Atelier de Philomène
X-ORIGINAL-URL:https://atelier-philomene.fr
X-WR-CALDESC:Évènements pour L&#039;Atelier de Philomène
REFRESH-INTERVAL;VALUE=DURATION:PT1H
X-Robots-Tag:noindex
X-PUBLISHED-TTL:PT1H
BEGIN:VTIMEZONE
TZID:Europe/Paris
BEGIN:DAYLIGHT
TZOFFSETFROM:+0100
TZOFFSETTO:+0200
TZNAME:CEST
DTSTART:20210328T010000
END:DAYLIGHT
BEGIN:STANDARD
TZOFFSETFROM:+0200
TZOFFSETTO:+0100
TZNAME:CET
DTSTART:20211031T010000
END:STANDARD
BEGIN:DAYLIGHT
TZOFFSETFROM:+0100
TZOFFSETTO:+0200
TZNAME:CEST
DTSTART:20220327T010000
END:DAYLIGHT
BEGIN:STANDARD
TZOFFSETFROM:+0200
TZOFFSETTO:+0100
TZNAME:CET
DTSTART:20221030T010000
END:STANDARD
END:VTIMEZONE
BEGIN:VEVENT
DTSTART;TZID=Europe/Paris:20220428T093000
DTEND;TZID=Europe/Paris:20220428T143000
DTSTAMP:20260426T022938
CREATED:20220422T125243Z
LAST-MODIFIED:20220422T125315Z
UID:1768-1651138200-1651156200@atelier-philomene.fr
SUMMARY:Atelier Enfants/ Ados (9-15 ans)
DESCRIPTION:Les Recettes\n\nOeuf cocotte aux Asperges et Truite fumée\nHachi parmentier au lieu noir Épinards et Carottes\nSalade du moment et Sauce Vinaigrette\nTartelette Fraises et Chocolat (Confection pâte brisée/ Crème pâtissière)\n\n			\n				\n				\n				\n				\n				RESTE 5 PLACES\n			\n			\n				\n				\n				\n				\n			\n				\n				\n				\n				\n				\n				\n			\n				\n				\n				\n				\n				Demande de Réservation Cours Collectif\n				\n				\n				\n					\n						\n				\n				\n				\n				\n				Nom\n				\n			 \n				\n				\n				\n				\n				Adresse e-mail\n				\n			 \n				\n				\n				\n				\n				Téléphone\n				\n			 \n				\n				\n				\n				\n				Confirmer la Date du Cours\n				\n			 \n				\n				\n				\n				\n				Nombre de Participants\n				\n						Nombre de Participants12345\n					\n			 \n				\n				\n				\n				\n				Message\n				\n			 \n						\n						\n							\n							Envoyer\n						\n						\n					\n				\n			\n			\n			\n				\n				\n				\n				\n				\n				\n				\n				\n				\n				AGENDA DES COURS
URL:https://atelier-philomene.fr/event/atelier-enfants-ados-9-15-ans-2/
LOCATION:Rendez-vous à l’Atelier\, 96\, impasse de Mornan\, VAULX\, 74150\, France
CATEGORIES:Cours Macarons/ Pâte à Choux
ATTACH;FMTTYPE=image/jpeg:https://atelier-philomene.fr/wp-content/uploads/2021/09/20210612_162917-scaled-e1650631603278.jpg
END:VEVENT
BEGIN:VEVENT
DTSTART;TZID=Europe/Paris:20220225T093000
DTEND;TZID=Europe/Paris:20220225T140000
DTSTAMP:20260426T022938
CREATED:20220105T164820Z
LAST-MODIFIED:20220212T104919Z
UID:1689-1645781400-1645797600@atelier-philomene.fr
SUMMARY:Atelier Ados (à partir de 13 ans)
DESCRIPTION:Les Recettes\n\nSamoussa Pommes Saint-Marcellin\nEscalopes Cordons Bleu au Morbier\nSpaetzles aux Champignons\nCrumble Potimarron aux Noix Noisettes\nMerveilleux aux Agrumes\n\n			\n				\n				\n				\n				\n				RESTE 1 PLACE\n			\n			\n				\n				\n				\n				\n			\n				\n				\n				\n				\n				\n				\n			\n				\n				\n				\n				\n				Demande de Réservation Cours Collectif\n				\n				\n				\n					\n						\n				\n				\n				\n				\n				Nom\n				\n			 \n				\n				\n				\n				\n				Adresse e-mail\n				\n			 \n				\n				\n				\n				\n				Téléphone\n				\n			 \n				\n				\n				\n				\n				Confirmer la Date du Cours\n				\n			 \n				\n				\n				\n				\n				Nombre de Participants\n				\n						Nombre de Participants12345\n					\n			 \n				\n				\n				\n				\n				Message\n				\n			 \n						\n						\n							\n							Envoyer\n						\n						\n					\n				\n			\n			\n			\n				\n				\n				\n				\n				\n				\n				\n				\n				\n				AGENDA DES COURS
URL:https://atelier-philomene.fr/event/atelier-ados-a-partir-de-13-ans-6/
LOCATION:Rendez-vous à l’Atelier\, 96\, impasse de Mornan\, VAULX\, 74150\, France
CATEGORIES:Cours Macarons/ Pâte à Choux
ATTACH;FMTTYPE=image/jpeg:https://atelier-philomene.fr/wp-content/uploads/2021/09/Merveilleux.jpg
END:VEVENT
BEGIN:VEVENT
DTSTART;TZID=Europe/Paris:20220223T093000
DTEND;TZID=Europe/Paris:20220223T133000
DTSTAMP:20260426T022938
CREATED:20220105T154853Z
LAST-MODIFIED:20220131T153809Z
UID:1677-1645608600-1645623000@atelier-philomene.fr
SUMMARY:Atelier Enfants 9 -12 ans - Spécial Pâtes diverses
DESCRIPTION:Les Recettes\n\nRoulés de Crêpes Sarrasin à la truite fumée\nPizzettes selon nos humeurs et Salade du Moment (confection Sauce)\nCrumble Mangue Ananas\nMousse Chocolat Passion et Granola maison\n\n			\n				\n				\n				\n				\n				RESTE 3 PLACES\n			\n			\n				\n				\n				\n				\n			\n				\n				\n				\n				\n				\n				\n			\n				\n				\n				\n				\n				Demande de Réservation Cours Collectif\n				\n				\n				\n					\n						\n				\n				\n				\n				\n				Nom\n				\n			 \n				\n				\n				\n				\n				Adresse e-mail\n				\n			 \n				\n				\n				\n				\n				Téléphone\n				\n			 \n				\n				\n				\n				\n				Confirmer la Date du Cours\n				\n			 \n				\n				\n				\n				\n				Nombre de Participants\n				\n						Nombre de Participants12345\n					\n			 \n				\n				\n				\n				\n				Message\n				\n			 \n						\n						\n							\n							Envoyer\n						\n						\n					\n				\n			\n			\n			\n				\n				\n				\n				\n				\n				\n				\n				\n				\n				AGENDA DES COURS
URL:https://atelier-philomene.fr/event/atelier-enfants-9-12-ans-special-pates-diverses/
LOCATION:Rendez-vous à l’Atelier\, 96\, impasse de Mornan\, VAULX\, 74150\, France
CATEGORIES:Cours Macarons/ Pâte à Choux
ATTACH;FMTTYPE=image/jpeg:https://atelier-philomene.fr/wp-content/uploads/2021/08/roule.jpg
END:VEVENT
BEGIN:VEVENT
DTSTART;TZID=Europe/Paris:20220222T093000
DTEND;TZID=Europe/Paris:20220222T140000
DTSTAMP:20260426T022939
CREATED:20220105T152520Z
LAST-MODIFIED:20220131T155319Z
UID:1671-1645522200-1645538400@atelier-philomene.fr
SUMMARY:Atelier Ados (à partir de 13 ans)
DESCRIPTION:Les Recettes\n\nChampignons farcis\nLieu noir pané aux Noisettes\nGratin dauphinois\nSauté de Légumes au Wok\nIle flottante Sauce caramel et Amandes grillées\nMuffin Citron Framboises\n\n			\n				\n				\n				\n				\n				RESTE 3 PLACES\n			\n			\n				\n				\n				\n				\n			\n				\n				\n				\n				\n				\n				\n			\n				\n				\n				\n				\n				Demande de Réservation Cours Collectif\n				\n				\n				\n					\n						\n				\n				\n				\n				\n				Nom\n				\n			 \n				\n				\n				\n				\n				Adresse e-mail\n				\n			 \n				\n				\n				\n				\n				Téléphone\n				\n			 \n				\n				\n				\n				\n				Confirmer la Date du Cours\n				\n			 \n				\n				\n				\n				\n				Nombre de Participants\n				\n						Nombre de Participants12345\n					\n			 \n				\n				\n				\n				\n				Message\n				\n			 \n						\n						\n							\n							Envoyer\n						\n						\n					\n				\n			\n			\n			\n				\n				\n				\n				\n				\n				\n				\n				\n				\n				AGENDA DES COURS
URL:https://atelier-philomene.fr/event/atelier-ados-a-partir-de-13-ans-5/
LOCATION:Rendez-vous à l’Atelier\, 96\, impasse de Mornan\, VAULX\, 74150\, France
CATEGORIES:Cours Macarons/ Pâte à Choux
ATTACH;FMTTYPE=image/jpeg:https://atelier-philomene.fr/wp-content/uploads/2021/08/Ile-Flottante.jpg
END:VEVENT
BEGIN:VEVENT
DTSTART;TZID=Europe/Paris:20220218T093000
DTEND;TZID=Europe/Paris:20220218T133000
DTSTAMP:20260426T022939
CREATED:20220105T151258Z
LAST-MODIFIED:20220131T152358Z
UID:1666-1645176600-1645191000@atelier-philomene.fr
SUMMARY:Atelier Enfants 9 - 12 ans
DESCRIPTION:Les Recettes\n\nSpirale à la Tapenade d’Olives Vertes\nOeufs Cocotte Poireau Truite fumée\nHachis parmentier de Lieur Noir Ail Persil\nCompote d’Automne\nCookies Choco Noix de Pécan\n\n			\n				\n				\n				\n				\n				RESTE 4 PLACES\n			\n			\n				\n				\n				\n				\n			\n				\n				\n				\n				\n				\n				\n			\n				\n				\n				\n				\n				Demande de Réservation Cours Collectif\n				\n				\n				\n					\n						\n				\n				\n				\n				\n				Nom\n				\n			 \n				\n				\n				\n				\n				Adresse e-mail\n				\n			 \n				\n				\n				\n				\n				Téléphone\n				\n			 \n				\n				\n				\n				\n				Confirmer la Date du Cours\n				\n			 \n				\n				\n				\n				\n				Nombre de Participants\n				\n						Nombre de Participants12345\n					\n			 \n				\n				\n				\n				\n				Message\n				\n			 \n						\n						\n							\n							Envoyer\n						\n						\n					\n				\n			\n			\n			\n				\n				\n				\n				\n				\n				\n				\n				\n				\n				AGENDA DES COURS
URL:https://atelier-philomene.fr/event/atelier-enfants-9-12-ans-5/
LOCATION:Rendez-vous à l’Atelier\, 96\, impasse de Mornan\, VAULX\, 74150\, France
CATEGORIES:Cours Macarons/ Pâte à Choux
ATTACH;FMTTYPE=image/jpeg:https://atelier-philomene.fr/wp-content/uploads/2021/08/DSC_0775.jpg
END:VEVENT
BEGIN:VEVENT
DTSTART;TZID=Europe/Paris:20220216T093000
DTEND;TZID=Europe/Paris:20220216T140000
DTSTAMP:20260426T022939
CREATED:20220104T203757Z
LAST-MODIFIED:20220212T104805Z
UID:1654-1645003800-1645020000@atelier-philomene.fr
SUMMARY:Atelier Ados (à partir de 13 ans)
DESCRIPTION:Les Recettes\n\nRillettes de Poisson fumé et ses Blinis\nNems de Bœuf Épinard Tomme\nGratin de Choux-fleur Brocoli aux Amandes\nPavlova aux Fruits rouges Chantilly maison\n\n			\n				\n				\n				\n				\n				COMPLET\n\n			\n			\n				\n				\n				\n				\n			\n				\n				\n				\n				\n				\n				\n			\n				\n				\n				\n				\n				Demande de Réservation Cours Collectif\n				\n				\n				\n					\n						\n				\n				\n				\n				\n				Nom\n				\n			 \n				\n				\n				\n				\n				Adresse e-mail\n				\n			 \n				\n				\n				\n				\n				Téléphone\n				\n			 \n				\n				\n				\n				\n				Confirmer la Date du Cours\n				\n			 \n				\n				\n				\n				\n				Nombre de Participants\n				\n						Nombre de Participants12345\n					\n			 \n				\n				\n				\n				\n				Message\n				\n			 \n						\n						\n							\n							Envoyer\n						\n						\n					\n				\n			\n			\n			\n				\n				\n				\n				\n				\n				\n				\n				\n				\n				AGENDA DES COURS
URL:https://atelier-philomene.fr/event/atelier-ados-a-partir-de-13-ans-4/
LOCATION:Rendez-vous à l’Atelier\, 96\, impasse de Mornan\, VAULX\, 74150\, France
CATEGORIES:Cours Macarons/ Pâte à Choux
END:VEVENT
BEGIN:VEVENT
DTSTART;TZID=Europe/Paris:20220215T093000
DTEND;TZID=Europe/Paris:20220215T133000
DTSTAMP:20260426T022939
CREATED:20220104T202927Z
LAST-MODIFIED:20220212T104501Z
UID:1650-1644917400-1644931800@atelier-philomene.fr
SUMMARY:Atelier Enfants 9 - 12 ans
DESCRIPTION:Les Recettes\n\nCookies Savoyard et Salade du moment (Vinaigrette)\nPignons de Poulet panés au Sésame/ Ketchup maison\nPotatoes et Patates douces\nPetit Clafoutis d’Automne aux Pépites de Chocolat\n\n			\n				\n				\n				\n				\n				RESTE 1 PLACE\n			\n			\n				\n				\n				\n				\n			\n				\n				\n				\n				\n				\n				\n			\n				\n				\n				\n				\n				Demande de Réservation Cours Collectif\n				\n				\n				\n					\n						\n				\n				\n				\n				\n				Nom\n				\n			 \n				\n				\n				\n				\n				Adresse e-mail\n				\n			 \n				\n				\n				\n				\n				Téléphone\n				\n			 \n				\n				\n				\n				\n				Confirmer la Date du Cours\n				\n			 \n				\n				\n				\n				\n				Nombre de Participants\n				\n						Nombre de Participants12345\n					\n			 \n				\n				\n				\n				\n				Message\n				\n			 \n						\n						\n							\n							Envoyer\n						\n						\n					\n				\n			\n			\n			\n				\n				\n				\n				\n				\n				\n				\n				\n				\n				AGENDA DES COURS
URL:https://atelier-philomene.fr/event/atelier-enfants-9-12-ans-4/
LOCATION:Rendez-vous à l’Atelier\, 96\, impasse de Mornan\, VAULX\, 74150\, France
CATEGORIES:Cours Macarons/ Pâte à Choux
ATTACH;FMTTYPE=image/jpeg:https://atelier-philomene.fr/wp-content/uploads/2021/08/DSC_0771.jpg
END:VEVENT
BEGIN:VEVENT
DTSTART;TZID=Europe/Paris:20211105T093000
DTEND;TZID=Europe/Paris:20211105T133000
DTSTAMP:20260426T022939
CREATED:20210928T170109Z
LAST-MODIFIED:20211009T094531Z
UID:1390-1636104600-1636119000@atelier-philomene.fr
SUMMARY:Atelier Enfants 9 - 12 ans
DESCRIPTION:Les Recettes\n\nOeuf mimosa au Thon – Salade d’Automne et sa Vinaigrette\nPignon de Poulet en chapelure –  Confection Ketchup maison\nPetits Légumes racines rôtis\nPain Perdu au coulis de Quetsches\n\n			\n				\n				\n				\n				\n				COMPLET\n\n			\n			\n				\n				\n				\n				\n			\n				\n				\n				\n				\n				\n				\n			\n				\n				\n				\n				\n				Demande de Réservation Cours Collectif\n				\n				\n				\n					\n						\n				\n				\n				\n				\n				Nom\n				\n			 \n				\n				\n				\n				\n				Adresse e-mail\n				\n			 \n				\n				\n				\n				\n				Téléphone\n				\n			 \n				\n				\n				\n				\n				Confirmer la Date du Cours\n				\n			 \n				\n				\n				\n				\n				Nombre de Participants\n				\n						Nombre de Participants12345\n					\n			 \n				\n				\n				\n				\n				Message\n				\n			 \n						\n						\n							\n							Envoyer\n						\n						\n					\n				\n			\n			\n			\n				\n				\n				\n				\n				\n				\n				\n				\n				\n				AGENDA DES COURS
URL:https://atelier-philomene.fr/event/atelier-enfants-9-12-ans-2/
LOCATION:Rendez-vous à l’Atelier\, 96\, impasse de Mornan\, VAULX\, 74150\, France
CATEGORIES:Cours Macarons/ Pâte à Choux
ATTACH;FMTTYPE=image/jpeg:https://atelier-philomene.fr/wp-content/uploads/2021/08/Clafoutis-dAutomne.jpg
END:VEVENT
BEGIN:VEVENT
DTSTART;TZID=Europe/Paris:20211104T093000
DTEND;TZID=Europe/Paris:20211104T140000
DTSTAMP:20260426T022939
CREATED:20210929T145331Z
LAST-MODIFIED:20211015T092152Z
UID:1441-1636018200-1636034400@atelier-philomene.fr
SUMMARY:Atelier Ados (à partir de 13 ans)
DESCRIPTION:Les Recettes\n\nRaviole de Betterave et Chèvre\nLasagne aux Légumes d’Automne et Cabillaud\nÉclair Vanille et Chocolat (Confection pâte à Choux + Crème pâtissière + Chantilly)\n\n			\n				\n				\n				\n				\n				RESTE 3 PLACES\n			\n			\n				\n				\n				\n				\n			\n				\n				\n				\n				\n				\n				\n			\n				\n				\n				\n				\n				Demande de Réservation Cours Collectif\n				\n				\n				\n					\n						\n				\n				\n				\n				\n				Nom\n				\n			 \n				\n				\n				\n				\n				Adresse e-mail\n				\n			 \n				\n				\n				\n				\n				Téléphone\n				\n			 \n				\n				\n				\n				\n				Confirmer la Date du Cours\n				\n			 \n				\n				\n				\n				\n				Nombre de Participants\n				\n						Nombre de Participants12345\n					\n			 \n				\n				\n				\n				\n				Message\n				\n			 \n						\n						\n							\n							Envoyer\n						\n						\n					\n				\n			\n			\n			\n				\n				\n				\n				\n				\n				\n				\n				\n				\n				AGENDA DES COURS
URL:https://atelier-philomene.fr/event/atelier-ados-a-partir-de-13-ans-3/
LOCATION:Rendez-vous à l’Atelier\, 96\, impasse de Mornan\, VAULX\, 74150\, France
CATEGORIES:Cours Macarons/ Pâte à Choux
ATTACH;FMTTYPE=image/jpeg:https://atelier-philomene.fr/wp-content/uploads/2021/09/Mousse-aux-deux-chocolats-et-sa-tuile-amandes.jpg
END:VEVENT
BEGIN:VEVENT
DTSTART;TZID=Europe/Paris:20211103T093000
DTEND;TZID=Europe/Paris:20211103T133000
DTSTAMP:20260426T022939
CREATED:20210929T144807Z
LAST-MODIFIED:20211018T160251Z
UID:1435-1635931800-1635946200@atelier-philomene.fr
SUMMARY:Atelier Enfants 9 -12 ans
DESCRIPTION:Les Recettes\n\nCrème Butternut et ses Pop-corn au Curry\nSpécial Pizza – Salade\nMarbré au Chocolat – Crème de Poires\n\n			\n			\n				\n				\n				\n				\n			\n				\n				\n				\n				\n				\n				\n			\n				\n				\n				\n				\n				Demande de Réservation Cours Collectif\n				\n				\n				\n					\n						\n				\n				\n				\n				\n				Nom\n				\n			 \n				\n				\n				\n				\n				Adresse e-mail\n				\n			 \n				\n				\n				\n				\n				Téléphone\n				\n			 \n				\n				\n				\n				\n				Confirmer la Date du Cours\n				\n			 \n				\n				\n				\n				\n				Nombre de Participants\n				\n						Nombre de Participants12345\n					\n			 \n				\n				\n				\n				\n				Message\n				\n			 \n						\n						\n							\n							Envoyer\n						\n						\n					\n				\n			\n			\n			\n				\n				\n				\n				\n				\n				\n				\n				\n				\n				AGENDA DES COURS
URL:https://atelier-philomene.fr/event/atelier-enfants-9-12-ans-3/
LOCATION:Rendez-vous à l’Atelier\, 96\, impasse de Mornan\, VAULX\, 74150\, France
CATEGORIES:Cours Macarons/ Pâte à Choux
ATTACH;FMTTYPE=image/jpeg:https://atelier-philomene.fr/wp-content/uploads/2021/08/DSC_0772.jpg
END:VEVENT
BEGIN:VEVENT
DTSTART;TZID=Europe/Paris:20211102T093000
DTEND;TZID=Europe/Paris:20211102T140000
DTSTAMP:20260426T022939
CREATED:20210929T144319Z
LAST-MODIFIED:20210929T144319Z
UID:1430-1635845400-1635861600@atelier-philomene.fr
SUMMARY:Atelier Ados (à partir de 13 ans)
DESCRIPTION:Les Recettes\n\nTarte à la Carotte et Persil (Confection pâte brisée) – Salade du moment\nSaumon cuit à l’unilatéral aux 2 sauces\nGalette de Légumes aux Noisettes\nMerveilleux\n\n			\n			\n				\n				\n				\n				\n			\n				\n				\n				\n				\n				\n				\n			\n				\n				\n				\n				\n				Demande de Réservation Cours Collectif\n				\n				\n				\n					\n						\n				\n				\n				\n				\n				Nom\n				\n			 \n				\n				\n				\n				\n				Adresse e-mail\n				\n			 \n				\n				\n				\n				\n				Téléphone\n				\n			 \n				\n				\n				\n				\n				Confirmer la Date du Cours\n				\n			 \n				\n				\n				\n				\n				Nombre de Participants\n				\n						Nombre de Participants12345\n					\n			 \n				\n				\n				\n				\n				Message\n				\n			 \n						\n						\n							\n							Envoyer\n						\n						\n					\n				\n			\n			\n			\n				\n				\n				\n				\n				\n				\n				\n				\n				\n				AGENDA DES COURS
URL:https://atelier-philomene.fr/event/atelier-ados-a-partir-de-13-ans-2/
LOCATION:Rendez-vous à l’Atelier\, 96\, impasse de Mornan\, VAULX\, 74150\, France
CATEGORIES:Cours Macarons/ Pâte à Choux
ATTACH;FMTTYPE=image/jpeg:https://atelier-philomene.fr/wp-content/uploads/2021/09/Merveilleux.jpg
END:VEVENT
BEGIN:VEVENT
DTSTART;TZID=Europe/Paris:20211029T093000
DTEND;TZID=Europe/Paris:20211029T133000
DTSTAMP:20260426T022939
CREATED:20210920T162256Z
LAST-MODIFIED:20211018T160449Z
UID:1348-1635499800-1635514200@atelier-philomene.fr
SUMMARY:Atelier Enfants "Spécial Halloween"
DESCRIPTION:Les Recettes\n\nVelouté de Courge et ses doigts de Sorcière\nPetit Pâté de l’horreur à la Viande et sa Verdure\nYeux de Vampires Litchees\nMeringues fantômes\n\n			\n				\n				\n				\n				\n				RESTE 4 PLACES\n			\n			\n				\n				\n				\n				\n			\n				\n				\n				\n				\n				\n				\n			\n				\n				\n				\n				\n				Demande de Réservation Cours Collectif\n				\n				\n				\n					\n						\n				\n				\n				\n				\n				Nom\n				\n			 \n				\n				\n				\n				\n				Adresse e-mail\n				\n			 \n				\n				\n				\n				\n				Téléphone\n				\n			 \n				\n				\n				\n				\n				Confirmer la Date du Cours\n				\n			 \n				\n				\n				\n				\n				Nombre de Participants\n				\n						Nombre de Participants12345\n					\n			 \n				\n				\n				\n				\n				Message\n				\n			 \n						\n						\n							\n							Envoyer\n						\n						\n					\n				\n			\n			\n			\n				\n				\n				\n				\n				\n				\n				\n				\n				\n				AGENDA DES COURS
URL:https://atelier-philomene.fr/event/atelier-enfants-special-halloween/
LOCATION:Rendez-vous à l’Atelier\, 96\, impasse de Mornan\, VAULX\, 74150\, France
CATEGORIES:Cours Macarons/ Pâte à Choux
ATTACH;FMTTYPE=image/jpeg:https://atelier-philomene.fr/wp-content/uploads/2021/08/doigts-de-sorcieres-2.jpg
END:VEVENT
BEGIN:VEVENT
DTSTART;TZID=Europe/Paris:20211027T083000
DTEND;TZID=Europe/Paris:20211027T140000
DTSTAMP:20260426T022939
CREATED:20210917T160127Z
LAST-MODIFIED:20210921T181115Z
UID:1335-1635323400-1635343200@atelier-philomene.fr
SUMMARY:Atelier Ados (à partir de 13 ans)
DESCRIPTION:Les Recettes\n\nRaviolis au Chou Pak Choï et Sauce Reblochon\nPoulet aux Herbes et au Citron confit\nGratin de Pomme de terre Céleri au Morbier\nTarte Bourdaloue Poires sauce Chocolat\n\n			\n			\n				\n				\n				\n				\n			\n				\n				\n				\n				\n				\n				\n			\n				\n				\n				\n				\n				Demande de Réservation Cours Collectif\n				\n				\n				\n					\n						\n				\n				\n				\n				\n				Nom\n				\n			 \n				\n				\n				\n				\n				Adresse e-mail\n				\n			 \n				\n				\n				\n				\n				Téléphone\n				\n			 \n				\n				\n				\n				\n				Confirmer la Date du Cours\n				\n			 \n				\n				\n				\n				\n				Nombre de Participants\n				\n						Nombre de Participants12345\n					\n			 \n				\n				\n				\n				\n				Message\n				\n			 \n						\n						\n							\n							Envoyer\n						\n						\n					\n				\n			\n			\n			\n				\n				\n				\n				\n				\n				\n				\n				\n				\n				AGENDA DES COURS
URL:https://atelier-philomene.fr/event/atelier-ados-a-partir-de-13-ans/
LOCATION:Rendez-vous à l’Atelier\, 96\, impasse de Mornan\, VAULX\, 74150\, France
CATEGORIES:Cours Macarons/ Pâte à Choux
ATTACH;FMTTYPE=image/jpeg:https://atelier-philomene.fr/wp-content/uploads/2021/08/Tomates-farcies-revisitees-Apres.jpg
END:VEVENT
BEGIN:VEVENT
DTSTART;TZID=Europe/Paris:20211026T093000
DTEND;TZID=Europe/Paris:20211026T133000
DTSTAMP:20260426T022939
CREATED:20210917T154142Z
LAST-MODIFIED:20211009T101004Z
UID:1328-1635240600-1635255000@atelier-philomene.fr
SUMMARY:Atelier Enfants 9 - 12 ans
DESCRIPTION:Les Recettes\n\nQuiche Lorraine ( Confection pâte brisée) et Salade du moment ( réalisation vinaigrette)\nHachis parmentier de Lieu noir aux Carottes Poireaux\nCompote d’Automne et Muffin Double Chocolat\n\n			\n				\n				\n				\n				\n				RESTE 1 PLACE\n			\n			\n				\n				\n				\n				\n			\n				\n				\n				\n				\n				\n				\n			\n				\n				\n				\n				\n				Demande de Réservation Cours Collectif\n				\n				\n				\n					\n						\n				\n				\n				\n				\n				Nom\n				\n			 \n				\n				\n				\n				\n				Adresse e-mail\n				\n			 \n				\n				\n				\n				\n				Téléphone\n				\n			 \n				\n				\n				\n				\n				Confirmer la Date du Cours\n				\n			 \n				\n				\n				\n				\n				Nombre de Participants\n				\n						Nombre de Participants12345\n					\n			 \n				\n				\n				\n				\n				Message\n				\n			 \n						\n						\n							\n							Envoyer\n						\n						\n					\n				\n			\n			\n			\n				\n				\n				\n				\n				\n				\n				\n				\n				\n				AGENDA DES COURS
URL:https://atelier-philomene.fr/event/atelier-enfants-9-12-ans/
LOCATION:Rendez-vous à l’Atelier\, 96\, impasse de Mornan\, VAULX\, 74150\, France
CATEGORIES:Cours Macarons/ Pâte à Choux
END:VEVENT
END:VCALENDAR