BEGIN:VCALENDAR
VERSION:2.0
PRODID:-//L&#039;Atelier de Philomène - ECPv6.10.3//NONSGML v1.0//EN
CALSCALE:GREGORIAN
METHOD:PUBLISH
X-ORIGINAL-URL:https://atelier-philomene.fr
X-WR-CALDESC:Évènements pour L&#039;Atelier de Philomène
REFRESH-INTERVAL;VALUE=DURATION:PT1H
X-Robots-Tag:noindex
X-PUBLISHED-TTL:PT1H
BEGIN:VTIMEZONE
TZID:Europe/Paris
BEGIN:DAYLIGHT
TZOFFSETFROM:+0100
TZOFFSETTO:+0200
TZNAME:CEST
DTSTART:20220327T010000
END:DAYLIGHT
BEGIN:STANDARD
TZOFFSETFROM:+0200
TZOFFSETTO:+0100
TZNAME:CET
DTSTART:20221030T010000
END:STANDARD
END:VTIMEZONE
BEGIN:VEVENT
DTSTART;TZID=Europe/Paris:20220122T093000
DTEND;TZID=Europe/Paris:20220122T140000
DTSTAMP:20260424T213739
CREATED:20220104T125324Z
LAST-MODIFIED:20220104T131456Z
UID:1606-1642843800-1642860000@atelier-philomene.fr
SUMMARY:Atelier Parents/ Enfants
DESCRIPTION:Feuilleté roulé à la Tapenade d’Olives vertes\nVelouté de Potimarron Curry Coco et son Granola salé\nKefta de Cochon et sa sauce\nTagliatelles maison\nGâteau aux Pommes « Apfel Kuchen » et sa sauce Vanille\n\n			\n				\n				\n				\n				\n				RESTE 2 PLACES pour 2 DUO\n			\n			\n				\n				\n				\n				\n			\n				\n				\n				\n				\n				\n				\n			\n				\n				\n				\n				\n				Demande de Réservation Cours Collectif\n				\n				\n				\n					\n						\n				\n				\n				\n				\n				Nom\n				\n			 \n				\n				\n				\n				\n				Adresse e-mail\n				\n			 \n				\n				\n				\n				\n				Téléphone\n				\n			 \n				\n				\n				\n				\n				Confirmer la Date du Cours\n				\n			 \n				\n				\n				\n				\n				Nombre de Participants\n				\n						Nombre de Participants12345\n					\n			 \n				\n				\n				\n				\n				Message\n				\n			 \n						\n						\n							\n							Envoyer\n						\n						\n					\n				\n			\n			\n			\n				\n				\n				\n				\n				\n				\n				\n				\n				\n				AGENDA DES COURS
URL:https://atelier-philomene.fr/event/atelier-parents-enfants-4/
LOCATION:Rendez-vous à l’Atelier\, 96\, impasse de Mornan\, VAULX\, 74150\, France
CATEGORIES:Cours Parents/ Enfants
ATTACH;FMTTYPE=image/jpeg:https://atelier-philomene.fr/wp-content/uploads/2021/09/photo_43.jpg
END:VEVENT
END:VCALENDAR