BEGIN:VCALENDAR
VERSION:2.0
PRODID:-//L&#039;Atelier de Philomène - ECPv6.10.3//NONSGML v1.0//EN
CALSCALE:GREGORIAN
METHOD:PUBLISH
X-ORIGINAL-URL:https://atelier-philomene.fr
X-WR-CALDESC:Évènements pour L&#039;Atelier de Philomène
REFRESH-INTERVAL;VALUE=DURATION:PT1H
X-Robots-Tag:noindex
X-PUBLISHED-TTL:PT1H
BEGIN:VTIMEZONE
TZID:Europe/Paris
BEGIN:DAYLIGHT
TZOFFSETFROM:+0100
TZOFFSETTO:+0200
TZNAME:CEST
DTSTART:20230326T010000
END:DAYLIGHT
BEGIN:STANDARD
TZOFFSETFROM:+0200
TZOFFSETTO:+0100
TZNAME:CET
DTSTART:20231029T010000
END:STANDARD
END:VTIMEZONE
BEGIN:VEVENT
DTSTART;TZID=Europe/Paris:20231216T090000
DTEND;TZID=Europe/Paris:20231216T140000
DTSTAMP:20260423T073149
CREATED:20230823T104634Z
LAST-MODIFIED:20230823T104634Z
UID:2590-1702717200-1702735200@atelier-philomene.fr
SUMMARY:Atelier Parents/ Enfants Ados
DESCRIPTION:  \nLes Recettes \n\nSaumon mariné aux Herbes et Blinis maison\nBoulettes de Bœuf à la mimolette\nTagliatelles maison\nGratin de Choux fleur Brocoli Brebis aux Amandes\nPain perdu de Brioche aux Fruits rouges et Crème Anglaise à la casserole\n\n			\n				\n				\n				\n				\n				RESTE 2 PLACES pour 2 DUO\n			\n			\n				\n				\n				\n				\n			\n				\n				\n				\n				\n				\n				\n			\n				\n				\n				\n				\n				Demande de Réservation Cours Collectif\n				\n				\n				\n					\n						\n				\n				\n				\n				\n				Nom\n				\n			 \n				\n				\n				\n				\n				Adresse e-mail\n				\n			 \n				\n				\n				\n				\n				Téléphone\n				\n			 \n				\n				\n				\n				\n				Confirmer la Date du Cours\n				\n			 \n				\n				\n				\n				\n				Nombre de Participants\n				\n						Nombre de Participants12345\n					\n			 \n				\n				\n				\n				\n				Message\n				\n			 \n						\n						\n							\n							Envoyer\n						\n						\n					\n				\n			\n			\n			\n				\n				\n				\n				\n				\n				\n				\n				\n				\n				AGENDA DES COURS
URL:https://atelier-philomene.fr/event/atelier-parents-enfants-ados-3/
LOCATION:Rendez-vous à l’Atelier\, 96\, impasse de Mornan\, VAULX\, 74150\, France
CATEGORIES:Cours Parents/ Enfants
ATTACH;FMTTYPE=image/jpeg:https://atelier-philomene.fr/wp-content/uploads/2021/08/croissants-1.jpg
END:VEVENT
BEGIN:VEVENT
DTSTART;TZID=Europe/Paris:20231220T093000
DTEND;TZID=Europe/Paris:20231220T140000
DTSTAMP:20260423T073149
CREATED:20230823T111007Z
LAST-MODIFIED:20231113T084025Z
UID:2595-1703064600-1703080800@atelier-philomene.fr
SUMMARY:Atelier Parents/ Enfants Ados
DESCRIPTION:  \nLes Recettes \n\nSapin à la Tapenade d’Olives vertes maison\nNems de Bœuf à la Tomme\nPurée de Brocoli Pdt Échalotes\nCarottes Vichy au Persil\nBanoffee \n\n			\n				\n				\n				\n				\n				RESTE 1 PLACE pour 1 DUO\n			\n			\n				\n				\n				\n				\n			\n				\n				\n				\n				\n				\n				\n			\n				\n				\n				\n				\n				Demande de Réservation Cours Collectif\n				\n				\n				\n					\n						\n				\n				\n				\n				\n				Nom\n				\n			 \n				\n				\n				\n				\n				Adresse e-mail\n				\n			 \n				\n				\n				\n				\n				Téléphone\n				\n			 \n				\n				\n				\n				\n				Confirmer la Date du Cours\n				\n			 \n				\n				\n				\n				\n				Nombre de Participants\n				\n						Nombre de Participants12345\n					\n			 \n				\n				\n				\n				\n				Message\n				\n			 \n						\n						\n							\n							Envoyer\n						\n						\n					\n				\n			\n			\n			\n				\n				\n				\n				\n				\n				\n				\n				\n				\n				AGENDA DES COURS
URL:https://atelier-philomene.fr/event/atelier-parents-enfants-ados-4/
LOCATION:Rendez-vous à l’Atelier\, 96\, impasse de Mornan\, VAULX\, 74150\, France
CATEGORIES:Cours Parents/ Enfants
ATTACH;FMTTYPE=image/jpeg:https://atelier-philomene.fr/wp-content/uploads/2023/08/20221220_105333-e1704474557215.jpg
END:VEVENT
END:VCALENDAR