BEGIN:VCALENDAR
VERSION:2.0
PRODID:-//L&#039;Atelier de Philomène - ECPv6.10.3//NONSGML v1.0//EN
CALSCALE:GREGORIAN
METHOD:PUBLISH
X-ORIGINAL-URL:https://atelier-philomene.fr
X-WR-CALDESC:Évènements pour L&#039;Atelier de Philomène
REFRESH-INTERVAL;VALUE=DURATION:PT1H
X-Robots-Tag:noindex
X-PUBLISHED-TTL:PT1H
BEGIN:VTIMEZONE
TZID:Europe/Paris
BEGIN:DAYLIGHT
TZOFFSETFROM:+0100
TZOFFSETTO:+0200
TZNAME:CEST
DTSTART:20240331T010000
END:DAYLIGHT
BEGIN:STANDARD
TZOFFSETFROM:+0200
TZOFFSETTO:+0100
TZNAME:CET
DTSTART:20241027T010000
END:STANDARD
END:VTIMEZONE
BEGIN:VEVENT
DTSTART;TZID=Europe/Paris:20240210T093000
DTEND;TZID=Europe/Paris:20240210T140000
DTSTAMP:20260423T045051
CREATED:20240105T151750Z
LAST-MODIFIED:20240131T105415Z
UID:2755-1707557400-1707573600@atelier-philomene.fr
SUMMARY:Atelier Parents/ Enfants Ados
DESCRIPTION:  \nLes Recettes\n\nOeuf mimosa à la Crème de Sardine et sa Verdure\nMini Pain de viande entouré de lard fumé et sa sauce Vierge\nGratin de Ravioles à la Courge et au Comté\nGâteau aux Pommes « Apfel Kuchen » et sa Sauce Crème anglaise\n\n			\n				\n				\n				\n				\n				RESTE 1 PLACE pour 1 DUO\n			\n			\n				\n				\n				\n				\n			\n				\n				\n				\n				\n				\n				\n			\n				\n				\n				\n				\n				Demande de Réservation Cours Collectif\n				\n				\n				\n					\n						\n				\n				\n				\n				\n				Nom\n				\n			 \n				\n				\n				\n				\n				Adresse e-mail\n				\n			 \n				\n				\n				\n				\n				Téléphone\n				\n			 \n				\n				\n				\n				\n				Confirmer la Date du Cours\n				\n			 \n				\n				\n				\n				\n				Nombre de Participants\n				\n						Nombre de Participants12345\n					\n			 \n				\n				\n				\n				\n				Message\n				\n			 \n						\n						\n							\n							Envoyer\n						\n						\n					\n				\n			\n			\n			\n				\n				\n				\n				\n				\n				\n				\n				\n				\n				AGENDA DES COURS
URL:https://atelier-philomene.fr/event/atelier-parents-enfants-ados-6/
LOCATION:Rendez-vous à l’Atelier\, 96\, impasse de Mornan\, VAULX\, 74150\, France
CATEGORIES:Cours Parents/ Enfants
ATTACH;FMTTYPE=image/jpeg:https://atelier-philomene.fr/wp-content/uploads/2021/08/roule.jpg
END:VEVENT
BEGIN:VEVENT
DTSTART;TZID=Europe/Paris:20240227T093000
DTEND;TZID=Europe/Paris:20240227T140000
DTSTAMP:20260423T045051
CREATED:20240105T152427Z
LAST-MODIFIED:20240222T123941Z
UID:2759-1709026200-1709042400@atelier-philomene.fr
SUMMARY:Atelier Parents/ Enfants Ados
DESCRIPTION:  \nLes Recettes\n\nSaumon mariné aux Herbes et Blinis maison\nBoulettes de Bœuf à la Mimolette\nRisotto Champignons Butternut aux Éclats de Fruits secs\nPain perdu de Brioche à la Compotée de Pommes/ Poires et Caramel beurre salé\n\n			\n			\n				\n				\n				\n				\n			\n				\n				\n				\n				\n				\n				\n				\n				\n				\n				\n				\n				\n				\n					 \n	\n\n		\n		\n		\n\n		\n\n\n		\n\n\n\n	Billets\n\n		\n	\n	\n		Les numéros ci-dessous incluent les billets pour cet événement déjà dans votre panier. En cliquant sur «Obtenir des billets»\, vous pourrez modifier toutes les informations existantes sur les participants ainsi que modifier les quantités de billets.	\n\n\n		\n\n	\n		\n				Atelier Parents/ Enfants	\n\n\n	\n		\n		\n					\n						150\,00\n						€\n					\n							\n\n\n	\n\n\n	\n	 2  restant(s)\n\n\n	\n\n\n	\n			\n	Diminuer la quantité de billets pour Atelier Parents/ Enfants\n	-\n		\n\n	\n		Quantité	\n	\n\n		\n	Augmenter la quantité de billets pour Atelier Parents/ Enfants\n	+\n	\n\n	\n		\n	\n\n\n		\n\n	\n	\n	\n		Quantité :	\n	0\n\n\n	\n	\n		Total :	\n	\n		\n					\n						0\,00\n						€\n					\n					\n\n\n	Obtenir Billets\n\n\n		\n			\n\n\n		\n		\n	\n	\n	\n\n\n	\n\n	\n\n\n\n				\n			\n				\n				\n				\n				\n				AGENDA DES COURS
URL:https://atelier-philomene.fr/event/atelier-parents-enfants-ados-7/
LOCATION:Rendez-vous à l’Atelier\, 96\, impasse de Mornan\, VAULX\, 74150\, France
CATEGORIES:Cours Parents/ Enfants
ATTACH;FMTTYPE=image/jpeg:https://atelier-philomene.fr/wp-content/uploads/2021/08/Atelier-Enfant.jpg
END:VEVENT
END:VCALENDAR