BEGIN:VCALENDAR
VERSION:2.0
PRODID:-//L&#039;Atelier de Philomène - ECPv6.10.3//NONSGML v1.0//EN
CALSCALE:GREGORIAN
METHOD:PUBLISH
X-ORIGINAL-URL:https://atelier-philomene.fr
X-WR-CALDESC:Évènements pour L&#039;Atelier de Philomène
REFRESH-INTERVAL;VALUE=DURATION:PT1H
X-Robots-Tag:noindex
X-PUBLISHED-TTL:PT1H
BEGIN:VTIMEZONE
TZID:Europe/Paris
BEGIN:DAYLIGHT
TZOFFSETFROM:+0100
TZOFFSETTO:+0200
TZNAME:CEST
DTSTART:20240331T010000
END:DAYLIGHT
BEGIN:STANDARD
TZOFFSETFROM:+0200
TZOFFSETTO:+0100
TZNAME:CET
DTSTART:20241027T010000
END:STANDARD
END:VTIMEZONE
BEGIN:VEVENT
DTSTART;TZID=Europe/Paris:20240316T093000
DTEND;TZID=Europe/Paris:20240316T140000
DTSTAMP:20260423T030715
CREATED:20240105T164956Z
LAST-MODIFIED:20240213T183309Z
UID:2763-1710581400-1710597600@atelier-philomene.fr
SUMMARY:Atelier Parents/ Enfants Ados
DESCRIPTION:  \nLes Recettes\n\nRillette de Saumon et Crackers maison\nHachi parmentier de Cabillaud aux Épinards et Carottes\nAccompagnement de Verdure en fonction du marché + confection Vinaigrette\nClafoutis d’Automne aux Pépites de Chocolat sauce Chocolat Chantilly maison\n\n			\n				\n				\n				\n				\n				COMPLET\n\n			\n			\n				\n				\n				\n				\n			\n				\n				\n				\n				\n				\n				\n			\n				\n				\n				\n				\n				Demande de Réservation Cours Collectif\n				\n				\n				\n					\n						\n				\n				\n				\n				\n				Nom\n				\n			 \n				\n				\n				\n				\n				Adresse e-mail\n				\n			 \n				\n				\n				\n				\n				Téléphone\n				\n			 \n				\n				\n				\n				\n				Confirmer la Date du Cours\n				\n			 \n				\n				\n				\n				\n				Nombre de Participants\n				\n						Nombre de Participants12345\n					\n			 \n				\n				\n				\n				\n				Message\n				\n			 \n						\n						\n							\n							Envoyer\n						\n						\n					\n				\n			\n			\n			\n				\n				\n				\n				\n				\n				\n				\n				\n				\n				AGENDA DES COURS
URL:https://atelier-philomene.fr/event/atelier-parents-enfants-ados-8/
LOCATION:Rendez-vous à l’Atelier\, 96\, impasse de Mornan\, VAULX\, 74150\, France
CATEGORIES:Cours Parents/ Enfants
ATTACH;FMTTYPE=image/jpeg:https://atelier-philomene.fr/wp-content/uploads/2023/04/Epinard-scaled-e1704474417619.jpg
END:VEVENT
END:VCALENDAR