BEGIN:VCALENDAR
VERSION:2.0
PRODID:-//L&#039;Atelier de Philomène - ECPv6.10.3//NONSGML v1.0//EN
CALSCALE:GREGORIAN
METHOD:PUBLISH
X-WR-CALNAME:L&#039;Atelier de Philomène
X-ORIGINAL-URL:https://atelier-philomene.fr
X-WR-CALDESC:Évènements pour L&#039;Atelier de Philomène
REFRESH-INTERVAL;VALUE=DURATION:PT1H
X-Robots-Tag:noindex
X-PUBLISHED-TTL:PT1H
BEGIN:VTIMEZONE
TZID:Europe/Paris
BEGIN:DAYLIGHT
TZOFFSETFROM:+0100
TZOFFSETTO:+0200
TZNAME:CEST
DTSTART:20240331T010000
END:DAYLIGHT
BEGIN:STANDARD
TZOFFSETFROM:+0200
TZOFFSETTO:+0100
TZNAME:CET
DTSTART:20241027T010000
END:STANDARD
END:VTIMEZONE
BEGIN:VEVENT
DTSTART;TZID=Europe/Paris:20240427T093000
DTEND;TZID=Europe/Paris:20240427T140000
DTSTAMP:20260423T012721
CREATED:20240131T105023Z
LAST-MODIFIED:20240222T152805Z
UID:2901-1714210200-1714226400@atelier-philomene.fr
SUMMARY:Atelier Parents/ Enfants Ados
DESCRIPTION:Les Recettes\n\nRavioles Épinard Ricotta Sauce Reblochon (Réalisation Pâte maison)\nCordon Bleu de Poulet au Morbier\nGratin de Pomme de Terre Blettes à la Crème d’Avoine\nProfiteroles à la Vanille Sauce Chocolat (Confection Pâte à Choux et crème pâtissière)\n\n			\n			\n				\n				\n				\n				\n			\n				\n				\n				\n				\n				\n				\n				\n				\n				\n				\n				\n				\n				\n					 \n	\n\n		\n		\n		\n\n		\n\n\n		\n\n\n\n	Billets\n\n		\n	\n	\n		Les numéros ci-dessous incluent les billets pour cet événement déjà dans votre panier. En cliquant sur «Obtenir des billets»\, vous pourrez modifier toutes les informations existantes sur les participants ainsi que modifier les quantités de billets.	\n\n\n		\n\n	\n		\n				Atelier Parents/ Enfants	\n\n\n	\n		\n		\n					\n						150\,00\n						€\n					\n							\n\n\n	\n\n\n	\n	 2  restant(s)\n\n\n	\n\n\n	\n			\n	Diminuer la quantité de billets pour Atelier Parents/ Enfants\n	-\n		\n\n	\n		Quantité	\n	\n\n		\n	Augmenter la quantité de billets pour Atelier Parents/ Enfants\n	+\n	\n\n	\n		\n	\n\n\n		\n\n	\n	\n	\n		Quantité :	\n	0\n\n\n	\n	\n		Total :	\n	\n		\n					\n						0\,00\n						€\n					\n					\n\n\n	Obtenir Billets\n\n\n		\n			\n\n\n		\n		\n	\n	\n	\n\n\n	\n\n	\n\n\n\n				\n			\n				\n				\n				\n				\n				AGENDA DES COURS
URL:https://atelier-philomene.fr/event/atelier-parents-enfants-ados-9/
LOCATION:Rendez-vous à l’Atelier\, 96\, impasse de Mornan\, VAULX\, 74150\, France
CATEGORIES:Cours Parents/ Enfants
ATTACH;FMTTYPE=image/jpeg:https://atelier-philomene.fr/wp-content/uploads/2023/02/Dessert-Paques-scaled-e1704474676529.jpg
END:VEVENT
END:VCALENDAR