BEGIN:VCALENDAR
VERSION:2.0
PRODID:-//L&#039;Atelier de Philomène - ECPv6.10.3//NONSGML v1.0//EN
CALSCALE:GREGORIAN
METHOD:PUBLISH
X-ORIGINAL-URL:https://atelier-philomene.fr
X-WR-CALDESC:Évènements pour L&#039;Atelier de Philomène
REFRESH-INTERVAL;VALUE=DURATION:PT1H
X-Robots-Tag:noindex
X-PUBLISHED-TTL:PT1H
BEGIN:VTIMEZONE
TZID:Europe/Paris
BEGIN:DAYLIGHT
TZOFFSETFROM:+0100
TZOFFSETTO:+0200
TZNAME:CEST
DTSTART:20240331T010000
END:DAYLIGHT
BEGIN:STANDARD
TZOFFSETFROM:+0200
TZOFFSETTO:+0100
TZNAME:CET
DTSTART:20241027T010000
END:STANDARD
END:VTIMEZONE
BEGIN:VEVENT
DTSTART;TZID=Europe/Paris:20240525T093000
DTEND;TZID=Europe/Paris:20240525T140000
DTSTAMP:20260422T235659
CREATED:20240131T110640Z
LAST-MODIFIED:20240222T152905Z
UID:2909-1716629400-1716645600@atelier-philomene.fr
SUMMARY:Atelier Parents/ Enfants
DESCRIPTION: \nLes Recettes \n\nSalade fraîcheur Avocat Fraises et ses Toasts au Brie – Vinaigrette Fraises\nCroustillant de Lieu noir aux petits Légumes printanier\nCrumble de Courgettes au Parmesan et Flocons d’Avoine\nPavlova aux Fraises et croquant de Granola maison\n\n			\n			\n				\n				\n				\n				\n			\n				\n				\n				\n				\n				\n				\n				\n				\n				\n				\n				\n				\n				\n					 \n	\n\n		\n		\n		\n\n		\n\n\n		\n\n\n\n	Billets\n\n		\n	\n	\n		Les numéros ci-dessous incluent les billets pour cet événement déjà dans votre panier. En cliquant sur «Obtenir des billets»\, vous pourrez modifier toutes les informations existantes sur les participants ainsi que modifier les quantités de billets.	\n\n\n		\n\n	\n		\n				Atelier Parents/ Enfants	\n\n\n	\n		\n		\n					\n						150\,00\n						€\n					\n							\n\n\n	\n\n\n	\n	 2  restant(s)\n\n\n	\n\n\n	\n			\n	Diminuer la quantité de billets pour Atelier Parents/ Enfants\n	-\n		\n\n	\n		Quantité	\n	\n\n		\n	Augmenter la quantité de billets pour Atelier Parents/ Enfants\n	+\n	\n\n	\n		\n	\n\n\n		\n\n	\n	\n	\n		Quantité :	\n	0\n\n\n	\n	\n		Total :	\n	\n		\n					\n						0\,00\n						€\n					\n					\n\n\n	Obtenir Billets\n\n\n		\n			\n\n\n		\n		\n	\n	\n	\n\n\n	\n\n	\n\n\n\n				\n			\n				\n				\n				\n				\n				AGENDA DES COURS
URL:https://atelier-philomene.fr/event/atelier-parents-enfants-13/
LOCATION:Rendez-vous à l’Atelier\, 96\, impasse de Mornan\, VAULX\, 74150\, France
CATEGORIES:Cours Parents/ Enfants
ATTACH;FMTTYPE=image/jpeg:https://atelier-philomene.fr/wp-content/uploads/2021/08/Tomates-farcies-revisitees-Apres.jpg
END:VEVENT
END:VCALENDAR