BEGIN:VCALENDAR
VERSION:2.0
PRODID:-//L&#039;Atelier de Philomène - ECPv6.10.3//NONSGML v1.0//EN
CALSCALE:GREGORIAN
METHOD:PUBLISH
X-ORIGINAL-URL:https://atelier-philomene.fr
X-WR-CALDESC:Évènements pour L&#039;Atelier de Philomène
REFRESH-INTERVAL;VALUE=DURATION:PT1H
X-Robots-Tag:noindex
X-PUBLISHED-TTL:PT1H
BEGIN:VTIMEZONE
TZID:Europe/Paris
BEGIN:DAYLIGHT
TZOFFSETFROM:+0100
TZOFFSETTO:+0200
TZNAME:CEST
DTSTART:20250330T010000
END:DAYLIGHT
BEGIN:STANDARD
TZOFFSETFROM:+0200
TZOFFSETTO:+0100
TZNAME:CET
DTSTART:20251026T010000
END:STANDARD
END:VTIMEZONE
BEGIN:VEVENT
DTSTART;TZID=Europe/Paris:20250426T093000
DTEND;TZID=Europe/Paris:20250426T140000
DTSTAMP:20260422T063711
CREATED:20241230T180137Z
LAST-MODIFIED:20250109T150743Z
UID:3569-1745659800-1745676000@atelier-philomene.fr
SUMMARY:Atelier Parents/ Enfants
DESCRIPTION: \nLes Recettes \n\nCookies savoyards au Reblochon et verdure du moment\nEscalopes cordons bleus Sauce Champignons\nGratin de Blettes Pomme de Terre à la crème d’avoine\nCarottes confites au four\nPavlova aux Fraises et son Granola maison \n\n			\n			\n				\n				\n				\n				\n			\n				\n				\n				\n				\n				\n				\n				\n				\n				\n				\n				\n				\n				\n					 \n	\n\n		\n		\n		\n\n		\n\n\n		\n\n\n\n	Billets\n\n		\n	\n	\n		Les numéros ci-dessous incluent les billets pour cet événement déjà dans votre panier. En cliquant sur «Obtenir des billets»\, vous pourrez modifier toutes les informations existantes sur les participants ainsi que modifier les quantités de billets.	\n\n\n		\n\n	\n		\n				Atelier Parents/ Enfants	\n\n\n	\n		\n		\n					\n						150\,00\n						€\n					\n							\n\n\n	\n\n\n	\n	 2  restant(s)\n\n\n	\n\n\n	\n			\n	Diminuer la quantité de billets pour Atelier Parents/ Enfants\n	-\n		\n\n	\n		Quantité	\n	\n\n		\n	Augmenter la quantité de billets pour Atelier Parents/ Enfants\n	+\n	\n\n	\n		\n	\n\n\n		\n\n	\n	\n	\n		Quantité :	\n	0\n\n\n	\n	\n		Total :	\n	\n		\n					\n						0\,00\n						€\n					\n					\n\n\n	Obtenir Billets\n\n\n		\n			\n\n\n		\n		\n	\n	\n	\n\n\n	\n\n	\n\n\n\n				\n			\n				\n				\n				\n				\n				AGENDA DES COURS
URL:https://atelier-philomene.fr/event/atelier-parents-enfants-22/
LOCATION:Rendez-vous à l’Atelier\, 96\, impasse de Mornan\, VAULX\, 74150\, France
CATEGORIES:Cours Parents/ Enfants
ATTACH;FMTTYPE=image/jpeg:https://atelier-philomene.fr/wp-content/uploads/2023/08/Pavlova-Fraises-scaled-e1704474482161.jpg
END:VEVENT
END:VCALENDAR